Workbook
Name 程式碼: [1]憑證記錄表!$B$2:$B$14
Name 貸方: [1]憑證記錄表!$G$2:$G$21
Name 借方: [1]憑證記錄表!$F$2:$F$21

Sheet 2006年資產負債表
A1: 資產負債表
A2: 編製單位：青島B企業 2006 年 12 月止 單位：元
A3: 資產 | B3: 行次 | C3: 年初數 | D3: 期末數 | E3: 負債和股東權益 | F3: 行次 | G3: 年初數 | H3: 期末數
A4: 流動資產： | E4: 流動負債:
A5: 貨幣資金 | B5: 1 | C5: 5635559.7 | D5: 4861585.1 | E5: 短期借款 | F5: 68 | G5: 1000000 | H5: 1000000
A6: 短期投資 | B6: 2 | C6: 100000 | D6: 150000 | E6: 應付票據 | F6: 69
A7: 應收票據 | B7: 3 | E7: 應付帳款 | F7: 70 | H7: 249796.66
A8: 應收股利 | B8: 4 | E8: 預收帳款 | F8: 71
A9: 應收利息 | B9: 5 | E9: 應付工資 | F9: 72
A10: 應收帳款 | B10: 6 | C10: 1030275.6 | D10: 911322 | E10: 應付福利費 | F10: 73 | G10: 56637.56 | H10: 66965.66
A11: 其他應收款 | B11: 7 | C11: 18000 | D11: 20000 | E11: 應付股利 | F11: 74 | G11: 200000
A12: 預付帳款 | B12: 8 | E12: 應交稅金 | F12: 75 | G12: 250000 | H12: 143548.34
A13: 應收補貼款 | B13: 9 | E13: 其他應交款 | F13: 80 | G13: 2000 | H13: 2125
A14: 存貨 | B14: 10 | C14: 18000 | D14: 923260.98 | E14: 其他應付款 | F14: 81 | H14: 64000
A15: 待攤費用 | B15: 11 | C15: 18000 | D15: 25000 | E15: 預提費用 | F15: 82 | H15: 10000
A16: 一年內到期的長期債權投資 | B16: 21 | E16: 預計負債 | F16: 83
A17: 其他流動資產 | B17: 24 | E17: 一年內到期的長期負債 | F17: 86
A18: 流動資產合計 | B18: 31 | C18: 6819835.3 | D18: 6891168.1 | E18: 其他流動負債 | F18: 90
A19: 長期投資:
A20: 長期股權投資 | B20: 32 | D20: 500000 | E20: 流動負債合計 | F20: 100 | G20: 1508637.6 | H20: 1536435.7
A21: 長期債權投資 | B21: 34 | E21: 長期負債:
A22: 長期投資合計 | B22: 38 | D22: 500000 | E22: 長期借款 | F22: 101 | G22: 1500000 | H22: 1520000
A23: 固定資產: | E23: 應付債券 | F23: 102
A24: 固定資產原價 | B24: 39 | C24: 25800000 | D24: 25950000 | E24: 長期應付款 | F24: 103
A25: 減:累計折舊 | B25: 40 | C25: 3441197.7 | D25: 3849491.4 | E25: 專項應付款 | F25: 106
A26: 固定資產淨值 | B26: 41 | C26: 22358802 | D26: 22100509 | E26: 其他長期負債 | F26: 108
A27: 減：固定資產減值準備 | B27: 42 | E27: 長期負債合計 | F27: 110 | G27: 1500000 | H27: 1520000
A28: 固定資產淨額 | B28: 43 | C28: 22358802 | D28: 22100509 | E28: 遞延稅項:
A29: 工程物資 | B29: 44 | E29: 遞延稅款貸項 | F29: 111
A30: 在建工程 | B30: 45 | E30: 負債合計 | F30: 114 | G30: 3008637.6 | H30: 3056435.7
A31: 固定資產清理 | B31: 46
A32: 固定資產合計 | B32: 50 | C32: 22358802 | D32: 22100509 | E32: 股東權益:
A33: 無形資產及其他資產: | E33: 股本 | F33: 115 | G33: 25000000 | H33: 25000000
A34: 無形資產 | B34: 51 | E34: 減：已歸還投資 | F34: 116
A35: 長期待攤費用 | B35: 52 | E35: 股本淨額 | F35: 117 | G35: 25000000 | H35: 25000000
A36: 其他長期資產 | B36: 53 | E36: 資本公積 | F36: 118 | G36: 1000000 | H36: 949000
A37: 無形資產及其他資產合計 | B37: 60 | E37: 盈餘公積 | F37: 119 | G37: 170000 | H37: 170000
E38: 其中:法定公益金 | F38: 120 | G38: 20000 | H38: 20000
A39: 遞延稅項: | E39: 未分配利潤 | F39: 121 | H39: 316241.04
A40: 遞延稅款借項 | B40: 61 | E40: 股東權益合計 | F40: 122 | G40: 26170000 | H40: 26435241
...

Sheet 2007年科目彙總表
A1: 2007年科目彙總表
A2: 程式碼 | B2: 科目名稱 | C2: 借方 | D2: 貸方 | E2: 餘額
A3: 1002 | B3: 銀行存款 | E3: 5635559.7
A4: 1101 | B4: 短期投資 | E4: 100000
A5: 1131 | B5: 應收帳款 | E5: 1030275.6
A6: 1133 | B6: 其他應收款 | E6: 18000
A7: 1243 | B7: 存貨 | E7: 18000
A8: 1301 | B8: 待攤費用 | E8: 18000
A9: 1501 | B9: 固定資產 | E9: 25800000
A10: 1502 | B10: 累計折舊 | E10: 3441197.7
A11: 2101 | B11: 短期借款 | E11: 1000000
A12: 2153 | B12: 應付福利費 | E12: 56637.56
A13: 2161 | B13: 應付股利 | E13: 200000
A14: 2171 | B14: 應交稅金 | E14: 250000
... A23: 5504 | B23: 銷售費用 | E23: 6500

Sheet 2007年資產負債表
A1: 資產負債表
A2: 編製單位：青島B企業 2007 年 12 月止 單位：元
A3: 資產 | B3: 行次 | C3: 年初數 | D3: 期末數 | E3: 負債和股東權益 | F3: 行次 | G3: 年初數 | H3: 期末數
A4: 流動資產： | E4: 流動負債:
A5: 貨幣資金 | B5: 1 | C5: ='2006年資產負債表'!D5 -> 4861585.1 | D5: ='2007年科目彙總表'!E3 -> 5635559.7 | E5: 短期借款 | F5: 68 | G5: ='2006年資產負債表'!H5 -> 1000000 | H5: ='2007年科目彙總表'!E11 -> 1000000
A6: 短期投資 | B6: 2 | C6: ='2006年資產負債表'!D6 -> 150000 | D6: ='2007年科目彙總表'!E4 -> 100000 | E6: 應付票據 | F6: 69 | G6: ='2006年資產負債表'!H6
A7: 應收票據 | B7: 3 | C7: ='2006年資產負債表'!D7 | E7: 應付帳款 | F7: 70 | G7: ='2006年資產負債表'!H7 -> 249796.66
A8: 應收股利 | B8: 4 | C8: ='2006年資產負債表'!D8 | E8: 預收帳款 | F8: 71 | G8: ='2006年資產負債表'!H8
A9: 應收利息 | B9: 5 | C9: ='2006年資產負債表'!D9 | E9: 應付工資 | F9: 72 | G9: ='2006年資產負債表'!H9
A10: 應收帳款 | B10: 6 | C10: ='2006年資產負債表'!D10 -> 911322 | D10: ='2007年科目彙總表'!E5 -> 1030275.6 | E10: 應付福利費 | F10: 73 | G10: ='2006年資產負債表'!H10 -> 66965.66 | H10: ='2007年科目彙總表'!E12 -> 56637.56
A11: 其他應收款 | B11: 7 | C11: ='2006年資產負債表'!D11 -> 20000 | D11: ='2007年科目彙總表'!E6 -> 18000 | E11: 應付股利 | F11: 74 | G11: ='2006年資產負債表'!H11 | H11: ='2007年科目彙總表'!E13 -> 200000
A12: 預付帳款 | B12: 8 | C12: ='2006年資產負債表'!D12 | E12: 應交稅金 | F12: 75 | G12: ='2006年資產負債表'!H12 -> 143548.34 | H12: ='2007年科目彙總表'!E14 -> 250000
A13: 應收補貼款 | B13: 9 | C13: ='2006年資產負債表'!D13 | E13: 其他應交款 | F13: 80 | G13: ='2006年資產負債表'!H13 -> 2125 | H13: ='2007年科目彙總表'!E15 -> 2000
A14: 存貨 | B14: 10 | C14: ='2006年資產負債表'!D14 -> 923260.98 | D14: ='2007年科目彙總表'!E7 -> 18000 | E14: 其他應付款 | F14: 81 | G14: ='2006年資產負債表'!H14 -> 64000
A15: 待攤費用 | B15: 11 | C15: ='2006年資產負債表'!D15 -> 25000 | D15: ='2007年科目彙總表'!E8 -> 18000 | E15: 預提費用 | F15: 82 | G15: ='2006年資產負債表'!H15 -> 10000
A16: 一年內到期的長期債權投資 | B16: 21 | C16: ='2006年資產負債表'!D16 -> 0 | E16: 預計負債 | F16: 83 | G16: ='2006年資產負債表'!H16
A17: 其他流動資產 | B17: 24 | C17: ='2006年資產負債表'!D17 -> 0 | E17: 一年內到期的長期負債 | F17: 86 | G17: ='2006年資產負債表'!H17 -> 0
A18: 流動資產合計 | B18: 31 | C18: ='2006年資產負債表'!D18 -> 6891168.1 | D18: =SUM(D5:D17) -> 6819835.3 | E18: 其他流動負債 | F18: 90 | G18: ='2006年資產負債表'!H18
A19: 長期投資: | C19: ='2006年資產負債表'!D19 -> 0 | G19: ='2006年資產負債表'!H19 -> 0
A20: 長期股權投資 | B20: 32 | C20: ='2006年資產負債表'!D20 -> 500000 | E20: 流動負債合計 | F20: 100 | G20: ='2006年資產負債表'!H20 -> 1536435.7 | H20: =SUM(H5:H19) -> 1508637.6
A21: 長期債權投資 | B21: 34 | C21: ='2006年資產負債表'!D21 | E21: 長期負債: | G21: ='2006年資產負債表'!H21 -> 0
A22: 長期投資合計 | B22: 38 | C22: ='2006年資產負債表'!D22 -> 500000 | E22: 長期借款 | F22: 101 | G22: ='2006年資產負債表'!H22 -> 1520000 | H22: ='2007年科目彙總表'!E16 -> 1500000
A23: 固定資產: | C23: ='2006年資產負債表'!D23 -> 0 | E23: 應付債券 | F23: 102 | G23: ='2006年資產負債表'!H23
A24: 固定資產原價 | B24: 39 | C24: ='2006年資產負債表'!D24 -> 25950000 | D24: ='2007年科目彙總表'!E9 -> 25800000 | E24: 長期應付款 | F24: 103 | G24: ='2006年資產負債表'!H24
A25: 減:累計折舊 | B25: 40 | C25: ='2006年資產負債表'!D25 -> 3849491.4 | D25: ='2007年科目彙總表'!E10 -> 3441197.7 | E25: 專項應付款 | F25: 106 | G25: ='2006年資產負債表'!H25
A26: 固定資產淨值 | B26: 41 | C26: ='2006年資產負債表'!D26 -> 22100509 | D26: =D24-D25 -> 22358802 | E26: 其他長期負債 | F26: 108 | G26: ='2006年資產負債表'!H26 -> 0
A27: 減：固定資產減值準備 | B27: 42 | C27: ='2006年資產負債表'!D27 | E27: 長期負債合計 | F27: 110 | G27: ='2006年資產負債表'!H27 -> 1520000 | H27: =SUM(H22:H26) -> 1500000
A28: 固定資產淨額 | B28: 43 | C28: ='2006年資產負債表'!D28 -> 22100509 | D28: =D26 -> 22358802 | E28: 遞延稅項: | G28: ='2006年資產負債表'!H28 -> 0
A29: 工程物資 | B29: 44 | C29: ='2006年資產負債表'!D29 | E29: 遞延稅款貸項 | F29: 111 | G29: ='2006年資產負債表'!H29
A30: 在建工程 | B30: 45 | C30: ='2006年資產負債表'!D30 | E30: 負債合計 | F30: 114 | G30: ='2006年資產負債表'!H30 -> 3056435.7
A31: 固定資產清理 | B31: 46 | C31: ='2006年資產負債表'!D31 | G31: ='2006年資產負債表'!H31 -> 0
A32: 固定資產合計 | B32: 50 | C32: ='2006年資產負債表'!D32 -> 22100509 | D32: =D26 -> 22358802 | E32: 股東權益: | G32: ='2006年資產負債表'!H32 -> 0
A33: 無形資產及其他資產: | C33: ='2006年資產負債表'!D33 -> 0 | E33: 股本 | F33: 115 | G33: ='2006年資產負債表'!H33 -> 25000000 | H33: ='2007年科目彙總表'!E17 -> 25000000
A34: 無形資產 | B34: 51 | C34: ='2006年資產負債表'!D34 | E34: 減：已歸還投資 | F34: 116 | G34: ='2006年資產負債表'!H34
A35: 長期待攤費用 | B35: 52 | C35: ='2006年資產負債表'!D35 | E35: 股本淨額 | F35: 117 | G35: ='2006年資產負債表'!H35 -> 25000000
A36: 其他長期資產 | B36: 53 | C36: ='2006年資產負債表'!D36 -> 0 | E36: 資本公積 | F36: 118 | G36: ='2006年資產負債表'!H36 -> 949000 | H36: ='2007年科目彙總表'!E18 -> 1000000
A37: 無形資產及其他資產合計 | B37: 60 | C37: ='2006年資產負債表'!D37 | E37: 盈餘公積 | F37: 119 | G37: ='2006年資產負債表'!H37 -> 170000 | H37: ='2007年科目彙總表'!E19 -> 170000
C38: ='2006年資產負債表'!D38 -> 0 | E38: 其中:法定公益金 | F38: 120 | G38: ='2006年資產負債表'!H38 -> 20000
A39: 遞延稅項: | C39: ='2006年資產負債表'!D39 -> 0 | E39: 未分配利潤 | F39: 121 | G39: ='2006年資產負債表'!H39 -> 316241.04
A40: 遞延稅款借項 | B40: 61 | C40: ='2006年資產負債表'!D40 | E40: 股東權益合計 | F40: 122 | G40: ='2006年資產負債表'!H40 -> 26435241 | H40: =SUM(H33:H39) -> 26170000
...
